BEGIN:VCALENDAR
VERSION:2.0
PRODID:-//Tukios.com/
BEGIN:VEVENT
UID:4ffe9d9c-eb63-4f64-aa94-a6a22c17e818@www.burgessfunerals.com
DTSTAMP:20260421T004500Z
DTSTART:20260424
SUMMARY:Visitation
DESCRIPTION:
URL:https://www.burgessfunerals.com/obituaries/george-meeks
LOCATION: 1800 Charlotte Hwy.  Lancaster SC 29720
GEO:34.7535662;-80.7798044
END:VEVENT
END:VCALENDAR