BEGIN:VCALENDAR
VERSION:2.0
PRODID:-//Tukios.com/
BEGIN:VEVENT
UID:ccde4194-ce20-4ff4-8b06-1f408cb41d4e@www.burgessfunerals.com
DTSTAMP:20260421T004337Z
DTSTART:20260424T190000Z
DTEND:20260424T200000Z
SUMMARY:Celebration of Life
DESCRIPTION:
URL:https://www.burgessfunerals.com/obituaries/george-meeks
LOCATION:The Chapel of Burgess Funeral Home 1800 Charlotte Hwy.  
	Lancaster SC 29720
GEO:34.7535662;-80.7798044
END:VEVENT
END:VCALENDAR