BEGIN:VCALENDAR
VERSION:2.0
PRODID:-//Tukios.com/
BEGIN:VEVENT
UID:ded44b83-9df5-46ec-aa8b-b52f4f032f60@www.burgessfunerals.com
DTSTAMP:20260421T224723Z
DTSTART:20260424T160000Z
DTEND:20260424T170000Z
SUMMARY:Burial
DESCRIPTION:Burial will follow at Pleasant Dale Baptist Church Cemetery.
URL:https://www.burgessfunerals.com/obituaries/doug-fournier
LOCATION:Pleasant Dale Baptist Church Cemetery 133 South Potter Road  
	Lancaster SC 29720
GEO:34.7314013;-80.6925053
END:VEVENT
END:VCALENDAR