BEGIN:VCALENDAR
VERSION:2.0
PRODID:-//Tukios.com/
BEGIN:VEVENT
UID:c3203358-be09-4405-bf1f-438c66afaa21@www.burgessfunerals.com
DTSTAMP:20260421T224902Z
DTSTART:20260424T150000Z
DTEND:20260424T160000Z
SUMMARY:Celebration of Life
DESCRIPTION:The Celebration of Life Service for Doug will be held at 
	11:00am on Friday, April 24, 2026 at Pleasant Dale Baptist Church in 
	Lancaster, SC, officiated by Dr. Jessie Adams and Pastor Adam Furr.
URL:https://www.burgessfunerals.com/obituaries/doug-fournier
LOCATION: 133 South Potter Road  Lancaster SC 29720
GEO:34.731696;-80.691874
END:VEVENT
END:VCALENDAR