BEGIN:VCALENDAR
VERSION:2.0
PRODID:-//Tukios.com/
BEGIN:VEVENT
UID:08b4b688-9c59-461d-9653-eee99f00b073@www.burgessfunerals.com
DTSTAMP:20260421T224908Z
DTSTART:20260424T140000Z
DTEND:20260424T150000Z
SUMMARY:Visitation
DESCRIPTION:The family will receive friends from 10:00 am – 11:00 am, 
	one hour prior to the service.
URL:https://www.burgessfunerals.com/obituaries/doug-fournier
LOCATION: 133 South Potter Road  Lancaster SC 29720
GEO:34.731696;-80.691874
END:VEVENT
END:VCALENDAR