BEGIN:VCALENDAR
VERSION:2.0
PRODID:-//Tukios.com/
BEGIN:VEVENT
UID:a24ff143-b146-492e-9a87-d0e5dda48dac@www.burgessfunerals.com
DTSTAMP:20260421T000502Z
DTSTART:20260422T160000Z
DTEND:20260422T170000Z
SUMMARY:Interment
DESCRIPTION:Interment will follow at Lancaster Memorial Park.
URL:https://www.burgessfunerals.com/obituaries/barbara-coalwell
LOCATION: 1389 Memorial Park Road  Lancaster SC 29720
GEO:34.6997808;-80.7960059
END:VEVENT
END:VCALENDAR