BEGIN:VCALENDAR
VERSION:2.0
PRODID:-//Tukios.com/
BEGIN:VEVENT
UID:b1f14774-6d42-45e0-b17d-1abb27d0ca1b@www.burgessfunerals.com
DTSTAMP:20260421T000502Z
DTSTART:20260422T150000Z
DTEND:20260422T160000Z
SUMMARY:Celebration of Life
DESCRIPTION:A Celebration of Life Service will be held at Zamar Church, 
	officiated by Rev. Marvin K. Tennant, III, on Wednesday, April 22, 2026, 
	at 11:00 am.
URL:https://www.burgessfunerals.com/obituaries/barbara-coalwell
LOCATION: 542 South Carolina 9  Lancaster SC 29720
GEO:34.7298446;-80.7610865
END:VEVENT
END:VCALENDAR