BEGIN:VCALENDAR
VERSION:2.0
PRODID:-//Tukios.com/
BEGIN:VEVENT
UID:773cab9e-6f3d-4d62-ae90-fd93483d97b2@www.burgessfunerals.com
DTSTAMP:20260421T000503Z
DTSTART:20260422T140000Z
DTEND:20260422T150000Z
SUMMARY:Visitation
DESCRIPTION:A visitation will be held on Wednesday, April 22, 2026, from 
	10:00 am – 11:00 am at Zamar Church.
URL:https://www.burgessfunerals.com/obituaries/barbara-coalwell
LOCATION: 542 South Carolina 9  Lancaster SC 29720
GEO:34.7298446;-80.7610865
END:VEVENT
END:VCALENDAR